BEGIN:VCALENDAR
VERSION:2.0
PRODID:-//Musikschule Preußisch Oldendorf - ECPv6.15.20//NONSGML v1.0//EN
CALSCALE:GREGORIAN
METHOD:PUBLISH
X-WR-CALNAME:Musikschule Preußisch Oldendorf
X-ORIGINAL-URL:https://pro-musikschule.de
X-WR-CALDESC:Veranstaltungen für Musikschule Preußisch Oldendorf
REFRESH-INTERVAL;VALUE=DURATION:PT1H
X-Robots-Tag:noindex
X-PUBLISHED-TTL:PT1H
BEGIN:VTIMEZONE
TZID:Europe/Berlin
BEGIN:DAYLIGHT
TZOFFSETFROM:+0100
TZOFFSETTO:+0200
TZNAME:CEST
DTSTART:20190331T010000
END:DAYLIGHT
BEGIN:STANDARD
TZOFFSETFROM:+0200
TZOFFSETTO:+0100
TZNAME:CET
DTSTART:20191027T010000
END:STANDARD
BEGIN:DAYLIGHT
TZOFFSETFROM:+0100
TZOFFSETTO:+0200
TZNAME:CEST
DTSTART:20200329T010000
END:DAYLIGHT
BEGIN:STANDARD
TZOFFSETFROM:+0200
TZOFFSETTO:+0100
TZNAME:CET
DTSTART:20201025T010000
END:STANDARD
BEGIN:DAYLIGHT
TZOFFSETFROM:+0100
TZOFFSETTO:+0200
TZNAME:CEST
DTSTART:20210328T010000
END:DAYLIGHT
BEGIN:STANDARD
TZOFFSETFROM:+0200
TZOFFSETTO:+0100
TZNAME:CET
DTSTART:20211031T010000
END:STANDARD
BEGIN:DAYLIGHT
TZOFFSETFROM:+0100
TZOFFSETTO:+0200
TZNAME:CEST
DTSTART:20220327T010000
END:DAYLIGHT
BEGIN:STANDARD
TZOFFSETFROM:+0200
TZOFFSETTO:+0100
TZNAME:CET
DTSTART:20221030T010000
END:STANDARD
BEGIN:DAYLIGHT
TZOFFSETFROM:+0100
TZOFFSETTO:+0200
TZNAME:CEST
DTSTART:20230326T010000
END:DAYLIGHT
BEGIN:STANDARD
TZOFFSETFROM:+0200
TZOFFSETTO:+0100
TZNAME:CET
DTSTART:20231029T010000
END:STANDARD
BEGIN:DAYLIGHT
TZOFFSETFROM:+0100
TZOFFSETTO:+0200
TZNAME:CEST
DTSTART:20240331T010000
END:DAYLIGHT
BEGIN:STANDARD
TZOFFSETFROM:+0200
TZOFFSETTO:+0100
TZNAME:CET
DTSTART:20241027T010000
END:STANDARD
BEGIN:DAYLIGHT
TZOFFSETFROM:+0100
TZOFFSETTO:+0200
TZNAME:CEST
DTSTART:20250330T010000
END:DAYLIGHT
BEGIN:STANDARD
TZOFFSETFROM:+0200
TZOFFSETTO:+0100
TZNAME:CET
DTSTART:20251026T010000
END:STANDARD
BEGIN:DAYLIGHT
TZOFFSETFROM:+0100
TZOFFSETTO:+0200
TZNAME:CEST
DTSTART:20260329T010000
END:DAYLIGHT
BEGIN:STANDARD
TZOFFSETFROM:+0200
TZOFFSETTO:+0100
TZNAME:CET
DTSTART:20261025T010000
END:STANDARD
BEGIN:DAYLIGHT
TZOFFSETFROM:+0100
TZOFFSETTO:+0200
TZNAME:CEST
DTSTART:20270328T010000
END:DAYLIGHT
BEGIN:STANDARD
TZOFFSETFROM:+0200
TZOFFSETTO:+0100
TZNAME:CET
DTSTART:20271031T010000
END:STANDARD
END:VTIMEZONE
BEGIN:VEVENT
DTSTART;TZID=Europe/Berlin:20260325T180000
DTEND;TZID=Europe/Berlin:20260325T190000
DTSTAMP:20260421T154806
CREATED:20260206T100855Z
LAST-MODIFIED:20260219T115230Z
UID:6895-1774461600-1774465200@pro-musikschule.de
SUMMARY:gemischtes Schülervorspiel
DESCRIPTION:Schülerinnen und Schüler aus verschiedenen Instrumentalklassen spielen ein buntes musikalisches Programm im „Vitalis Wohnpark“. Das Vorspiel ist nicht nur für die Bewohner der Einrichtung gedacht sondern offen für Eltern\, Großeltern und weitere interessierte Gäste.
URL:https://pro-musikschule.de/einzeltermin/gemischtes-schuelervorspiel-6/
LOCATION:Vitalis Wohnpark\, Jahnstr. 3\, 32361 Preußisch Oldendorf
END:VEVENT
BEGIN:VEVENT
DTSTART;TZID=Europe/Berlin:20251213T163000
DTEND;TZID=Europe/Berlin:20251213T173000
DTSTAMP:20260421T154806
CREATED:20250225T092257Z
LAST-MODIFIED:20260109T081324Z
UID:5245-1765643400-1765647000@pro-musikschule.de
SUMMARY:Sternstunde für Kinder und Erwachsene
DESCRIPTION:Schülerinnen und Schüler der Musikschule präsentieren gemeinsam mit ihren Lehrkräften weihnachtliche Musik. Pastor Weber ergänzt das Programm mit heiteren und besinnlichen Texten. \nEintritt frei.
URL:https://pro-musikschule.de/einzeltermin/sternstunde-fuer-kinder-und-erwachsene-4/
LOCATION:Evangelische Kirche Preußisch Oldendorf\, Spiegelstr. 1b
END:VEVENT
BEGIN:VEVENT
DTSTART;TZID=Europe/Berlin:20251026T170000
DTEND;TZID=Europe/Berlin:20251026T183000
DTSTAMP:20260421T154806
CREATED:20250225T091946Z
LAST-MODIFIED:20250225T091946Z
UID:5243-1761498000-1761503400@pro-musikschule.de
SUMMARY:Lehrerkonzert
DESCRIPTION:Die Dozentinnen und Dozenten der Musikschule präsentieren ein abwechslungsreiches musikalisches Programm. \nEintritt frei.
URL:https://pro-musikschule.de/einzeltermin/lehrerkonzert-2/
LOCATION:Gemeindehaus Preußisch Oldendof\, Spiegelstraße 3\, Preußisch Oldendorf\, 32361
ORGANIZER;CN="Musikschule Preu%C3%9Fisch Oldendorf":MAILTO:info@pro-musikschule.de
END:VEVENT
BEGIN:VEVENT
DTSTART;TZID=Europe/Berlin:20250614T110000
DTEND;TZID=Europe/Berlin:20250614T130000
DTSTAMP:20260421T154806
CREATED:20250225T091731Z
LAST-MODIFIED:20250225T091731Z
UID:5241-1749898800-1749906000@pro-musikschule.de
SUMMARY:Instrumentenvorstellung
DESCRIPTION:Die Musikschule veranstaltet einen „Tag der offenen Tür“ in ihren neuen eigenen Räumen im Bürgerhaus Preußisch Oldendorf. \nBesucher können die verschiedenen Instrumente ausprobieren und erhalten Informationen über die Angebote der kleinen Musikschule vor Ort.
URL:https://pro-musikschule.de/einzeltermin/instrumentenvorstellung-5/
LOCATION:Bürgerhaus Preußisch Oldendorf\, Mindener Str. 3\, Preußisch Oldendorf\, NRW\, 32361
ORGANIZER;CN="Musikschule Preu%C3%9Fisch Oldendorf":MAILTO:info@pro-musikschule.de
END:VEVENT
BEGIN:VEVENT
DTSTART;TZID=Europe/Berlin:20250525T163000
DTEND;TZID=Europe/Berlin:20250525T173000
DTSTAMP:20260421T154806
CREATED:20250225T090553Z
LAST-MODIFIED:20260109T082746Z
UID:5235-1748190600-1748194200@pro-musikschule.de
SUMMARY:Gemeinschaftskonzert Rödinghausen
DESCRIPTION:Die Musikschule Preußisch Oldendorf und Pascal Rohner von der Einrichtung „Lernen hoch 3“ veranstalten ein großes Gemeinschaftskonzert in Rödinghausen. Mit dabei ist sind u.a. Schülerinnen und Schüler aus der Rödinghauser Gitarrenklasse von Johanna Hespe\, die Kinder aus den AGs an den beiden Grundschulen Schwenningdorf und Bruchmühlen sowie der Musikschul-Gospelchor „Pro Voices“. \nDie Veranstaltung findet diesmal in der Grundschule Schwenningdorf statt.
URL:https://pro-musikschule.de/einzeltermin/gemeinschaftskonzert-roedinghausen/
LOCATION:Grundschule Schwenningdorf
END:VEVENT
BEGIN:VEVENT
DTSTART;TZID=Europe/Berlin:20250410T180000
DTEND;TZID=Europe/Berlin:20250410T190000
DTSTAMP:20260421T154806
CREATED:20250225T085807Z
LAST-MODIFIED:20260109T082633Z
UID:5233-1744308000-1744311600@pro-musikschule.de
SUMMARY:gemischtes Schülervorspiel
DESCRIPTION:Schülerinnen und Schüler aus verschiedenen Instrumentalklassen präsentieren ein buntes Programm. Zu hören sind u.a. Beiträge aus den Klassen Gitarre\, Klavier\, Saxofon und Schlagzeug. \n 
URL:https://pro-musikschule.de/einzeltermin/gemischtes-schuelervorspiel-5/
LOCATION:Haus des Gastes Bad Holzhausen\, Hudenbeck 2\, Preußisch Oldendorf / Bad Holzhausen\, NRW\, 32361\, Deutschland
END:VEVENT
BEGIN:VEVENT
DTSTART;TZID=Europe/Berlin:20241214T163000
DTEND;TZID=Europe/Berlin:20241214T173000
DTSTAMP:20260421T154806
CREATED:20240202T114022Z
LAST-MODIFIED:20260109T082529Z
UID:3604-1734193800-1734197400@pro-musikschule.de
SUMMARY:Sternstunde
DESCRIPTION:Schülerinnen und Schüler aus verschiedenen Instrumentalklassen der Musikschule Preußisch Oldendorf spielen weihnachtliche Musik. Pastor Michael Weber ergänzt das Programm mit heiteren und besinnlichen Texten und Geschichten. Eintritt frei.
URL:https://pro-musikschule.de/einzeltermin/sternstunde/
LOCATION:St. Dionysiuskirche Preußisch Oldendorf\, Am Kirchplatz 1\, Preußisch Oldendorf\, 32361
END:VEVENT
BEGIN:VEVENT
DTSTART;TZID=Europe/Berlin:20241027T170000
DTEND;TZID=Europe/Berlin:20241027T183000
DTSTAMP:20260421T154806
CREATED:20240202T114634Z
LAST-MODIFIED:20260109T083219Z
UID:3606-1730048400-1730053800@pro-musikschule.de
SUMMARY:Lehrerkonzert
DESCRIPTION:Verschiedene Lehrkräfte der Musikschule bieten ein Konzertprogramm im Gemeindehaus der St. Dionysiuskirche Preußisch Oldendorf. \nEintritt frei\, Spenden willkommen.
URL:https://pro-musikschule.de/einzeltermin/lehrerkonzert/
LOCATION:Gemeindehaus Preußisch Oldendof\, Spiegelstraße 3\, Preußisch Oldendorf\, 32361
END:VEVENT
BEGIN:VEVENT
DTSTART;TZID=Europe/Berlin:20241007T180000
DTEND;TZID=Europe/Berlin:20241007T190000
DTSTAMP:20260421T154806
CREATED:20240202T113414Z
LAST-MODIFIED:20240202T113414Z
UID:3600-1728324000-1728327600@pro-musikschule.de
SUMMARY:gemischtes Schülervorspiel
DESCRIPTION:Schülerinnen und Schüler aus verschiedenen Instrumentalklassen spielen ein buntes Programm.
URL:https://pro-musikschule.de/einzeltermin/gemischtes-schuelervorspiel-4/
LOCATION:Kirchengemeinde Neues Leben\, Kirchstr. 4\, 32361 Preußisch Oldendorf
END:VEVENT
BEGIN:VEVENT
DTSTART;TZID=Europe/Berlin:20240616T163000
DTEND;TZID=Europe/Berlin:20240616T173000
DTSTAMP:20260421T154806
CREATED:20240202T113120Z
LAST-MODIFIED:20260109T083137Z
UID:3596-1718555400-1718559000@pro-musikschule.de
SUMMARY:Konzert in Rödinghausen
DESCRIPTION:Großes Gemeinschaftskonzert mit einem bunt gemischten Programm der musikalischen Institutionen in der Gemeinde Rödinghausen.
URL:https://pro-musikschule.de/einzeltermin/konzert-in-roedinghausen-2/
LOCATION:Gesamtschule Rödinghausen\, An der Stertwelle 34-38\, 32289 Rödinghausen
END:VEVENT
BEGIN:VEVENT
DTSTART;TZID=Europe/Berlin:20240608T110000
DTEND;TZID=Europe/Berlin:20240608T110000
DTSTAMP:20260421T154806
CREATED:20240202T112459Z
LAST-MODIFIED:20240202T112459Z
UID:3594-1717844400-1717844400@pro-musikschule.de
SUMMARY:Instrumentenvorstellung
DESCRIPTION:Gemeinsam mit dem Blasorchester Bad Holzhausen findet die jährliche Instrumentenvorstellung statt. Hier gibt es umfassende Informationen zu den musikalischen Angeboten und die Instrumente können nach Herzenslust ausprobiert werden.
URL:https://pro-musikschule.de/einzeltermin/instrumentenvorstellung-4/
LOCATION:Haus des Gastes Bad Holzhausen\, Hudenbeck 2\, Preußisch Oldendorf / Bad Holzhausen\, NRW\, 32361\, Deutschland
ORGANIZER;CN="Musikschule Preu%C3%9Fisch Oldendorf":MAILTO:info@pro-musikschule.de
END:VEVENT
BEGIN:VEVENT
DTSTART;TZID=Europe/Berlin:20240428T150000
DTEND;TZID=Europe/Berlin:20240428T170000
DTSTAMP:20260421T154806
CREATED:20240202T111854Z
LAST-MODIFIED:20240311T192738Z
UID:3591-1714316400-1714323600@pro-musikschule.de
SUMMARY:Frühlingskonzert der Musikschule Preußisch Oldendorf
DESCRIPTION:Die Musikschule veranstaltet ein großes gemischtes Lehrer- und Schülerkonzert für die ganze Familie. In der Pause werden selbstgebackene Kuchen\, Torten und Kaffee angeboten. \nEintritt frei.
URL:https://pro-musikschule.de/einzeltermin/30-jahre-musikschule-preussisch-oldendorf/
LOCATION:Sekundarschule Preußisch Oldendorf\, Offelter Weg 21\, 32361 Preußisch Oldendorf
ORGANIZER;CN="Musikschule Preu%C3%9Fisch Oldendorf":MAILTO:info@pro-musikschule.de
END:VEVENT
BEGIN:VEVENT
DTSTART;TZID=Europe/Berlin:20240320T180000
DTEND;TZID=Europe/Berlin:20240320T190000
DTSTAMP:20260421T154806
CREATED:20240202T111103Z
LAST-MODIFIED:20260109T081502Z
UID:3586-1710957600-1710961200@pro-musikschule.de
SUMMARY:gemischtes Schülervorspiel
DESCRIPTION:Schülerinnen und Schüler der Musikschule aus verschiedenen Instrumentalklassen spielen ein buntes Programm im „Vitalis Wohnpark“. \nDas Vorspiel ist nicht nur für die Bewohner des Altenheims gedacht\, sondern offen für alle interessierten Eltern\, Großeltern\, Geschwister sowie weitere Gäste.
URL:https://pro-musikschule.de/einzeltermin/gemischtes-schuelervorspiel-3/
LOCATION:Vitalis Wohnpark\, Jahnstr. 3\, 32361 Preußisch Oldendorf
END:VEVENT
BEGIN:VEVENT
DTSTART;TZID=Europe/Berlin:20231216T163000
DTEND;TZID=Europe/Berlin:20231216T173000
DTSTAMP:20260421T154806
CREATED:20230203T121221Z
LAST-MODIFIED:20260109T083045Z
UID:2576-1702744200-1702747800@pro-musikschule.de
SUMMARY:Sternstunde für Kinder und Erwachsene
DESCRIPTION:Weihnachtliche Musik\, gespielt von Schülerinnen und Schüler aus verschiedenen Instrumentalklassen der Musikschule\, ergänzt durch Texte\, Geschichten und Gedanken von Pfarrer Michael Weber.
URL:https://pro-musikschule.de/einzeltermin/sternstunde-fuer-kinder-und-erwachsene-3/
LOCATION:Evangelische Kirche Preußisch Oldendorf\, Spiegelstr. 1b
END:VEVENT
BEGIN:VEVENT
DTSTART;TZID=Europe/Berlin:20230928T180000
DTEND;TZID=Europe/Berlin:20230928T190000
DTSTAMP:20260421T154806
CREATED:20230203T120827Z
LAST-MODIFIED:20260109T082323Z
UID:2574-1695924000-1695927600@pro-musikschule.de
SUMMARY:gemischtes Schülervorspiel
DESCRIPTION:Schülerinnen und Schüler aus verschiedenen Instrumentalklassen der Musikschule Preußisch Oldendorf gestalten ein bunt gemischtes Programm.
URL:https://pro-musikschule.de/einzeltermin/gemischtes-schuelervorspiel-2/
LOCATION:Galerie Novalis\, Jahnstr. 43\, 32361 Preußisch Oldendorf
END:VEVENT
BEGIN:VEVENT
DTSTART;TZID=Europe/Berlin:20230827T150000
DTEND;TZID=Europe/Berlin:20230827T170000
DTSTAMP:20260421T154806
CREATED:20230203T120617Z
LAST-MODIFIED:20230203T120617Z
UID:2571-1693148400-1693155600@pro-musikschule.de
SUMMARY:Festveranstaltung "30 Jahre Galerie Novalis"
DESCRIPTION:Lehrkräfte der Musikschule Preußisch Oldendorf gestalten die musikalische Umrahmung der Festveranstaltung anlässlich des 30-jährigen Jubiläums der „Galerie Novalis“.
URL:https://pro-musikschule.de/einzeltermin/festveranstaltung-30-jahre-galerie-novalis/
LOCATION:Galerie Novalis\, Jahnstr. 43\, 32361 Preußisch Oldendorf
END:VEVENT
BEGIN:VEVENT
DTSTART;TZID=Europe/Berlin:20230618T163000
DTEND;TZID=Europe/Berlin:20230618T170000
DTSTAMP:20260421T154806
CREATED:20230203T113323Z
LAST-MODIFIED:20260109T082957Z
UID:2566-1687105800-1687107600@pro-musikschule.de
SUMMARY:Konzert in Rödinghausen
DESCRIPTION:Verschiedene Musikgruppen aus der Gemeinde Rödinghausen und die Musikschule Preußisch Oldendorf veranstalten ein abwechslungsreiches Konzert im „Haus des Gastes“ in Rödinghausen.
URL:https://pro-musikschule.de/einzeltermin/konzert-in-roedinghausen/
LOCATION:Haus des Gastes Rödinghausen
END:VEVENT
BEGIN:VEVENT
DTSTART;TZID=Europe/Berlin:20230327T180000
DTEND;TZID=Europe/Berlin:20230327T190000
DTSTAMP:20260421T154806
CREATED:20230131T085403Z
LAST-MODIFIED:20260109T082232Z
UID:2555-1679940000-1679943600@pro-musikschule.de
SUMMARY:gemischtes Schülervorspiel
DESCRIPTION:Schülerinnen und Schüler aus verschiedenen Instrumentalklassen präsentieren in der „Galerie Novalis“ ein bunt gemischtes Programm. \nDer Eintritt ist frei.
URL:https://pro-musikschule.de/einzeltermin/gemischtes-schuelervorspiel/
LOCATION:Galerie Novalis\, Jahnstr. 43\, 32361 Preußisch Oldendorf
END:VEVENT
BEGIN:VEVENT
DTSTART;TZID=Europe/Berlin:20230311T110000
DTEND;TZID=Europe/Berlin:20230311T130000
DTSTAMP:20260421T154806
CREATED:20230203T112829Z
LAST-MODIFIED:20230203T112829Z
UID:2564-1678532400-1678539600@pro-musikschule.de
SUMMARY:Instrumentenvorstellung
DESCRIPTION:Am 11. März findet wieder die große Instrumentenvorstellung gemeinsam mit dem Blasorchester Bad Holzhausen statt. Ab 11:00 Uhr präsentieren Schülerinnen und Schüler der Musikschule sowie die „Youngster-Band“ des Blasorchesters zunächst die verschiedenen Instrumente in einem kleinen Vorspiel\, anschließend kann nach Herzenslust ausprobiert werden.
URL:https://pro-musikschule.de/einzeltermin/instrumentenvorstellung-3/
LOCATION:Haus des Gastes Bad Holzhausen\, Hudenbeck 2\, Preußisch Oldendorf / Bad Holzhausen\, NRW\, 32361\, Deutschland
ORGANIZER;CN="Musikschule Preu%C3%9Fisch Oldendorf":MAILTO:info@pro-musikschule.de
END:VEVENT
BEGIN:VEVENT
DTSTART;TZID=Europe/Berlin:20221210T163000
DTEND;TZID=Europe/Berlin:20221210T173000
DTSTAMP:20260421T154806
CREATED:20221001T144015Z
LAST-MODIFIED:20260109T082200Z
UID:2306-1670689800-1670693400@pro-musikschule.de
SUMMARY:Sternstunde für Kinder und Erwachsene
DESCRIPTION:Schülerinnen und Schüler der Musikschule spielen weihnachtliche Musik. Pastor Weber ergänzt das Programm durch besinnliche und heitere Texte.
URL:https://pro-musikschule.de/einzeltermin/sternstunde-fuer-kinder-und-erwachsene-2/
LOCATION:Evangelische Kirche Preußisch Oldendorf\, Spiegelstr. 1b
END:VEVENT
BEGIN:VEVENT
DTSTART;TZID=Europe/Berlin:20220927T180000
DTEND;TZID=Europe/Berlin:20220927T190000
DTSTAMP:20260421T154806
CREATED:20220528T154608Z
LAST-MODIFIED:20220528T154608Z
UID:1818-1664301600-1664305200@pro-musikschule.de
SUMMARY:gemischtes Vorspiel
DESCRIPTION:Es musizieren Schülerinnen und Schüler aus verschiedenen Instrumentalklassen.
URL:https://pro-musikschule.de/einzeltermin/gemischtes-vorspiel-3/
LOCATION:Ev. Kirche Bad Holzhausen\, Bünder Str. 3\, 32361 Preußisch Oldendorf
END:VEVENT
BEGIN:VEVENT
DTSTART;TZID=Europe/Berlin:20220917T110000
DTEND;TZID=Europe/Berlin:20220917T130000
DTSTAMP:20260421T154806
CREATED:20220528T154120Z
LAST-MODIFIED:20220528T154120Z
UID:1816-1663412400-1663419600@pro-musikschule.de
SUMMARY:Instrumentenvorstellung
DESCRIPTION:Wer schon immer einmal wissen wollte\, wie man einen Ton auf der Klarinette erzeugt oder worin der Unterschied zwischen einem Waldhorn und einer Tuba besteht\, wer schon immer einmal die Geige oder das Schlagzeug ausprobieren wollte\, der sollte sich die Instrumentenvorstellung im Haus des Gastes nicht entgehen lassen. \nDie Musikschule Preußisch Oldendorf und das Blasorchester Bad Holzhausen geben einen umfassenden Einblick in ihre musikalische Arbeit und stellen ihre vielfältigen Angebote vor. \nNach der Eröffnung mit einem kleinen Vorspiel können alle Instrumente unter Anleitung von Lehrkräften der Musikschule sowie MusikerInnen des Blasorchesters ausprobiert werden. \n 
URL:https://pro-musikschule.de/einzeltermin/instrumentenvorstellung-2/
LOCATION:Haus des Gastes Bad Holzhausen\, Hudenbeck 2\, Preußisch Oldendorf / Bad Holzhausen\, NRW\, 32361\, Deutschland
END:VEVENT
BEGIN:VEVENT
DTSTART;TZID=Europe/Berlin:20220827T160000
DTEND;TZID=Europe/Berlin:20220827T170000
DTSTAMP:20260421T154806
CREATED:20220528T151828Z
LAST-MODIFIED:20220528T151828Z
UID:1813-1661616000-1661619600@pro-musikschule.de
SUMMARY:Konzert "Rund um die Gitarre"
DESCRIPTION:Im Rahmen der „LandArt-Kulturwochen 2022“ findet in der Galerie Novalis ein Konzert mit Schülerinnen und Schülern der Musikschule Preußisch Oldendorf statt. \nEs musizieren GitarrenschülerInnen von Johanna Hespe und aus anderen Instrumentalklassen.
URL:https://pro-musikschule.de/einzeltermin/konzert-rund-um-die-gitarre/
LOCATION:Galerie Novalis\, Jahnstr. 43\, 32361 Preußisch Oldendorf
END:VEVENT
BEGIN:VEVENT
DTSTART;TZID=Europe/Berlin:20211211T163000
DTEND;TZID=Europe/Berlin:20211211T163000
DTSTAMP:20260421T154806
CREATED:20211113T101033Z
LAST-MODIFIED:20211205T081519Z
UID:1394-1639240200-1639240200@pro-musikschule.de
SUMMARY:Sternstunde für Kinder und Erwachsene
DESCRIPTION:Am Samstag vor dem 3. Advent findet in der St. Dionysiuskirche Preußisch Oldendorf traditionell die “Sternstunde für Kinder und Erwachsene” statt. Im vergangenen Jahr musste die Veranstaltung cornabedingt leider ausfallen\, da der gesamte Weihnachtsmarkt abgesagt war\, aber für dieses Jahr haben sich die Kirchengemeinde und die Musikschule dazu entschlossen\, die beliebte adventliche Stunde wieder durchzuführen. “Pastor Weber und ich sind der Meinung\, dass es gerade in der jetzigen Situation wichtig ist\, den Menschen eine Auszeit von all dem Stress der vergangenen Monate zu gönnen. Die Zuhörer sollen zur Ruhe kommen können und vorübergehend ihren Blick einmal wieder auf andere Dinge lenken”\, so die Schulleiterin Anja Vehling. \nSchülerinnen und Schüler der Musikschule Preußisch Oldendorf aus verschiedenen Instrumentalklassen haben mit ihren Lehrkräften zahlreiche weihnachtliche Lieder vorbereitet\, Pastor Weber wird das Programm durch Texte und kleine Geschichten ergänzen. \nEs gilt die 2G-Regel sowie eine durchgehende Maskenpflicht auch am Sitzplatz.
URL:https://pro-musikschule.de/einzeltermin/1394/
LOCATION:Evangelische Kirche Preußisch Oldendorf\, Spiegelstr. 1b
END:VEVENT
BEGIN:VEVENT
DTSTART;TZID=Europe/Berlin:20211007T180000
DTEND;TZID=Europe/Berlin:20211007T190000
DTSTAMP:20260421T154806
CREATED:20210819T100738Z
LAST-MODIFIED:20210819T100738Z
UID:1101-1633629600-1633633200@pro-musikschule.de
SUMMARY:gemischtes Vorspiel
DESCRIPTION:Nach langer Coronapause findet wieder ein kleines gemischtes Vorspiel der Musikschule statt. Instrumentalschüler nahezu aller Klassen präsentieren in der St. Dionysiuskirche ein abwechslungsreiches Programm. \nDer Eintritt ist frei. \nWir weisen darauf hin\, dass eine Teilnahme nur mit dem Nachweis einer Coronaimpfung\, einer Genesung oder eines Negativtestes möglich ist. Vielen Dank für Ihr Verständnis! \n  \n 
URL:https://pro-musikschule.de/einzeltermin/gemischtes-vorspiel-2/
LOCATION:Evangelische Kirche Preußisch Oldendorf\, Spiegelstr. 1b
END:VEVENT
BEGIN:VEVENT
DTSTART;TZID=Europe/Berlin:20210911T110000
DTEND;TZID=Europe/Berlin:20210911T130000
DTSTAMP:20260421T154806
CREATED:20210819T095048Z
LAST-MODIFIED:20210819T100125Z
UID:1097-1631358000-1631365200@pro-musikschule.de
SUMMARY:Instrumentenvorstellung
DESCRIPTION:Am Samstag dem 11. September findet wieder unsere Instrumentenvorstellung gemeinsam mit dem Blasorchester Bad Holzhausen statt. Nach einem kleinen Vorspiel verschiedener InstrumentalschülerInnen kann jeder Gast zahlreiche Instrumente genauer Kennenlernen und ausprobieren. Die Lehrkräfte der Musikschule und die Mitglieder des Blasorchesters stehen mit Tipps und Informationen zur Verfügung. \nWir weisen darauf hin\, dass die Veranstaltung nur stattfindet\, wenn es die aktuelle Coronasituation zulässt. Außerdem ist eine Teilnahme nur mit einem Nachweis über eine Coronaimpfung\, Genesung oder eines Negativtestes möglich. Vielen Dank für Ihr Verständnis! \n 
URL:https://pro-musikschule.de/einzeltermin/instrumentenvorstellung/
LOCATION:Haus des Gastes Bad Holzhausen\, Hudenbeck 2\, Preußisch Oldendorf / Bad Holzhausen\, NRW\, 32361\, Deutschland
END:VEVENT
BEGIN:VEVENT
DTSTART;TZID=Europe/Berlin:20201213T153000
DTEND;TZID=Europe/Berlin:20201213T163000
DTSTAMP:20260421T154806
CREATED:20200615T094331Z
LAST-MODIFIED:20201030T101455Z
UID:400-1607873400-1607877000@pro-musikschule.de
SUMMARY:Sternstunde für Musik
DESCRIPTION:Da der Weihnachtsmarkt abgesagt wurde\, entfällt die „Sternstunde für Musik“.
URL:https://pro-musikschule.de/einzeltermin/sternstunde-fuer-musik/
LOCATION:St. Dionysiuskirche Preußisch Oldendorf\, Am Kirchplatz 1\, Preußisch Oldendorf\, 32361
ORGANIZER;CN="Musikschule Preu%C3%9Fisch Oldendorf":MAILTO:info@pro-musikschule.de
END:VEVENT
BEGIN:VEVENT
DTSTART;TZID=Europe/Berlin:20201212T163000
DTEND;TZID=Europe/Berlin:20201212T173000
DTSTAMP:20260421T154806
CREATED:20200615T093845Z
LAST-MODIFIED:20201030T101055Z
UID:397-1607790600-1607794200@pro-musikschule.de
SUMMARY:Sternstunde für Kinder und Erwachsene
DESCRIPTION:SchülerInnen und Lehrkräfte der Musikschule gestalten gemeinsam mit Pfarrer Michael Weber am Samstag vor dem 3. Advent eine festliche Stunde voller Musik und Geschichten zur Advents- und Weihnachtszeit.
URL:https://pro-musikschule.de/einzeltermin/sternstunde-fuer-kinder-und-erwachsene/
LOCATION:St. Dionysiuskirche Preußisch Oldendorf\, Am Kirchplatz 1\, Preußisch Oldendorf\, 32361
END:VEVENT
BEGIN:VEVENT
DTSTART;TZID=Europe/Berlin:20201108T160000
DTEND;TZID=Europe/Berlin:20201108T170000
DTSTAMP:20260421T154806
CREATED:20200615T093404Z
LAST-MODIFIED:20201027T082435Z
UID:395-1604851200-1604854800@pro-musikschule.de
SUMMARY:Novemberklänge
DESCRIPTION:Die jährliche Veranstaltung zur Erinnerung an jüdisches Leben in Preußisch Oldendorf und anderswo findet in diesem Jahr bereits zum elften Mal statt. Mitwirkende sind Stadtheimatpfleger Karl-Wilhelm Finke (Präsentation über die jüdische Gemeinde in Preußisch Oldendorf) und Dalisha Logan (Texte) sowie Pfarrer Michael Weber von der ev.-luth. Kirchengemeinde. Die musikalische Begleitung übernehmen Johanna Hespe (Gitarre) und Anja Vehling (Klarinette).
URL:https://pro-musikschule.de/einzeltermin/novemberklaenge/
LOCATION:Evangelische Kirche Preußisch Oldendorf\, Spiegelstr. 1b
ORGANIZER;CN="Musikschule Preu%C3%9Fisch Oldendorf":MAILTO:info@pro-musikschule.de
END:VEVENT
BEGIN:VEVENT
DTSTART;TZID=Europe/Berlin:20201007T180000
DTEND;TZID=Europe/Berlin:20201007T180000
DTSTAMP:20260421T154806
CREATED:20200615T092322Z
LAST-MODIFIED:20200917T094758Z
UID:389-1602093600-1602093600@pro-musikschule.de
SUMMARY:Gemischtes Vorspiel
DESCRIPTION:Am 07. Oktober lädt die Musikschule Preußisch Oldendorf zu einem kleinen gemischten Vorspiel in die evangelische Kirche Preußisch Oldendorf ein. \nHier können vor allem die jüngeren Kinder ihre ersten Auftrittserfahrungen sammeln\, aber auch für die älteren Schüler ist es eine gute Gelegenheit\, das im Unterricht Geübte vor Publikum zu präsentieren. \nEs musizieren Schülerinnen und Schüler verschiedener Lehrkräfte und Altersstufen.
URL:https://pro-musikschule.de/einzeltermin/gemischtes-vorspiel/
LOCATION:Evangelische Kirche Preußisch Oldendorf\, Spiegelstr. 1b
ORGANIZER;CN="Musikschule Preu%C3%9Fisch Oldendorf":MAILTO:info@pro-musikschule.de
END:VEVENT
END:VCALENDAR