BEGIN:VCALENDAR
VERSION:2.0
PRODID:-//Musikschule Preußisch Oldendorf - ECPv6.15.20//NONSGML v1.0//EN
CALSCALE:GREGORIAN
METHOD:PUBLISH
X-WR-CALNAME:Musikschule Preußisch Oldendorf
X-ORIGINAL-URL:https://pro-musikschule.de
X-WR-CALDESC:Veranstaltungen für Musikschule Preußisch Oldendorf
REFRESH-INTERVAL;VALUE=DURATION:PT1H
X-Robots-Tag:noindex
X-PUBLISHED-TTL:PT1H
BEGIN:VTIMEZONE
TZID:Europe/Berlin
BEGIN:DAYLIGHT
TZOFFSETFROM:+0100
TZOFFSETTO:+0200
TZNAME:CEST
DTSTART:20250330T010000
END:DAYLIGHT
BEGIN:STANDARD
TZOFFSETFROM:+0200
TZOFFSETTO:+0100
TZNAME:CET
DTSTART:20251026T010000
END:STANDARD
BEGIN:DAYLIGHT
TZOFFSETFROM:+0100
TZOFFSETTO:+0200
TZNAME:CEST
DTSTART:20260329T010000
END:DAYLIGHT
BEGIN:STANDARD
TZOFFSETFROM:+0200
TZOFFSETTO:+0100
TZNAME:CET
DTSTART:20261025T010000
END:STANDARD
BEGIN:DAYLIGHT
TZOFFSETFROM:+0100
TZOFFSETTO:+0200
TZNAME:CEST
DTSTART:20270328T010000
END:DAYLIGHT
BEGIN:STANDARD
TZOFFSETFROM:+0200
TZOFFSETTO:+0100
TZNAME:CET
DTSTART:20271031T010000
END:STANDARD
END:VTIMEZONE
BEGIN:VEVENT
DTSTART;TZID=Europe/Berlin:20260509T110000
DTEND;TZID=Europe/Berlin:20260509T130000
DTSTAMP:20260421T140904
CREATED:20260206T101924Z
LAST-MODIFIED:20260206T101924Z
UID:6902-1778324400-1778331600@pro-musikschule.de
SUMMARY:Tag der offenen Tür mit Instrumentenvorstellung
DESCRIPTION:Die Musikschule veranstaltet einen „Tag der offenen Tür“ in ihren Räumen im Bürgerhaus Preußisch Oldendorf. \nDie Besucher können zahlreiche Instrumente ausprobieren und erhalten Informationen über die Angebote der kleinen Musikschule vor Ort.
URL:https://pro-musikschule.de/einzeltermin/tag-der-offenen-tuer-mit-instrumentenvorstellung/
LOCATION:Bürgerhaus Preußisch Oldendorf\, Mindener Str. 3\, Preußisch Oldendorf\, NRW\, 32361
END:VEVENT
BEGIN:VEVENT
DTSTART;TZID=Europe/Berlin:20260521T190000
DTEND;TZID=Europe/Berlin:20260521T210000
DTSTAMP:20260421T140904
CREATED:20260305T123244Z
LAST-MODIFIED:20260305T123244Z
UID:6954-1779390000-1779397200@pro-musikschule.de
SUMMARY:Mitgliederversammlung
DESCRIPTION:Die jährliche Mitgliederversammlung findet statt am Donnerstag dem 21. Mai 2026. Beginn ist um 19:00 Uhr in den Räumen der Musikschule im Bürgerhaus Preußisch Oldendorf.
URL:https://pro-musikschule.de/einzeltermin/mitgliederversammlung-2/
LOCATION:Bürgerhaus Preußisch Oldendorf\, Mindener Str. 3\, Preußisch Oldendorf\, NRW\, 32361
END:VEVENT
BEGIN:VEVENT
DTSTART;TZID=Europe/Berlin:20260628T163000
DTEND;TZID=Europe/Berlin:20260628T180000
DTSTAMP:20260421T140904
CREATED:20260219T113952Z
LAST-MODIFIED:20260219T113952Z
UID:6942-1782664200-1782669600@pro-musikschule.de
SUMMARY:Gemeinschaftskonzert in Rödinghausen
DESCRIPTION:Pascal Rohner von der Rödinghausener Einrichtung „Lernen hoch 3“ und die Musikschule Preußisch Oldendorf veranstalten wieder ein großes Gemeinschaftskonzert. Es spielen Schülerinnen und Schüler sowie Ensembles aus verschiedenen Instrumentalklassen. Der Eintritt ist frei.
URL:https://pro-musikschule.de/einzeltermin/gemeinschaftskonzert-in-roedinghausen/
LOCATION:Grundschule Schwenningdorf
END:VEVENT
BEGIN:VEVENT
DTSTART;TZID=Europe/Berlin:20261012T180000
DTEND;TZID=Europe/Berlin:20261012T190000
DTSTAMP:20260421T140904
CREATED:20260219T114252Z
LAST-MODIFIED:20260219T114252Z
UID:6944-1791828000-1791831600@pro-musikschule.de
SUMMARY:gemischtes Schülervorspiel
DESCRIPTION:Schülerinnen und Schüler aus verschiedenen Instrumentalklassen präsentieren in einem bunt gemischten Programm\, was sie in den vergangenen Wochen und Monaten im Unterricht gelernt haben. Der Eintritt ist frei.
URL:https://pro-musikschule.de/einzeltermin/gemischtes-schuelervorspiel-7/
LOCATION:Haus des Gastes Bad Holzhausen\, Hudenbeck 2\, Preußisch Oldendorf / Bad Holzhausen\, NRW\, 32361\, Deutschland
END:VEVENT
BEGIN:VEVENT
DTSTART;TZID=Europe/Berlin:20261108T170000
DTEND;TZID=Europe/Berlin:20261108T183000
DTSTAMP:20260421T140904
CREATED:20260219T114704Z
LAST-MODIFIED:20260219T114730Z
UID:6946-1794157200-1794162600@pro-musikschule.de
SUMMARY:Dozentenkonzert
DESCRIPTION:Die Lehrkräfte der Musikschule Preußisch Oldendorf stellen sich sowohl solistisch als auch in verschiedenen kammermusikalischen Besetzungen vor.\nEintritt frei\, Spenden erwünscht.
URL:https://pro-musikschule.de/einzeltermin/dozentenkonzert/
LOCATION:Gemeindehaus Preußisch Oldendof\, Spiegelstraße 3\, Preußisch Oldendorf\, 32361
END:VEVENT
BEGIN:VEVENT
DTSTART;TZID=Europe/Berlin:20261212T163000
DTEND;TZID=Europe/Berlin:20261212T173000
DTSTAMP:20260421T140904
CREATED:20260219T115022Z
LAST-MODIFIED:20260219T115050Z
UID:6949-1797093000-1797096600@pro-musikschule.de
SUMMARY:Sternstunde für Kinder und Erwachsene
DESCRIPTION:Schülerinnen und Schüler aus verschiedenen Instrumentalklassen spielen gemeinsam mit ihren Lehrkräften weihnachtliche Musik. Pastor Weber ergänzt das Programm mit dazu passend ausgewählten Texten.\nEintritt frei.
URL:https://pro-musikschule.de/einzeltermin/sternstunde-fuer-kinder-und-erwachsenen/
LOCATION:Evangelische Kirche Preußisch Oldendorf\, Spiegelstr. 1b
END:VEVENT
END:VCALENDAR