BEGIN:VCALENDAR
VERSION:2.0
PRODID:-//Musikschule Preußisch Oldendorf - ECPv6.15.20//NONSGML v1.0//EN
CALSCALE:GREGORIAN
METHOD:PUBLISH
X-WR-CALNAME:Musikschule Preußisch Oldendorf
X-ORIGINAL-URL:https://pro-musikschule.de
X-WR-CALDESC:Veranstaltungen für Musikschule Preußisch Oldendorf
REFRESH-INTERVAL;VALUE=DURATION:PT1H
X-Robots-Tag:noindex
X-PUBLISHED-TTL:PT1H
BEGIN:VTIMEZONE
TZID:Europe/Berlin
BEGIN:DAYLIGHT
TZOFFSETFROM:+0100
TZOFFSETTO:+0200
TZNAME:CEST
DTSTART:20250330T010000
END:DAYLIGHT
BEGIN:STANDARD
TZOFFSETFROM:+0200
TZOFFSETTO:+0100
TZNAME:CET
DTSTART:20251026T010000
END:STANDARD
BEGIN:DAYLIGHT
TZOFFSETFROM:+0100
TZOFFSETTO:+0200
TZNAME:CEST
DTSTART:20260329T010000
END:DAYLIGHT
BEGIN:STANDARD
TZOFFSETFROM:+0200
TZOFFSETTO:+0100
TZNAME:CET
DTSTART:20261025T010000
END:STANDARD
BEGIN:DAYLIGHT
TZOFFSETFROM:+0100
TZOFFSETTO:+0200
TZNAME:CEST
DTSTART:20270328T010000
END:DAYLIGHT
BEGIN:STANDARD
TZOFFSETFROM:+0200
TZOFFSETTO:+0100
TZNAME:CET
DTSTART:20271031T010000
END:STANDARD
END:VTIMEZONE
BEGIN:VEVENT
DTSTART;TZID=Europe/Berlin:20261212T163000
DTEND;TZID=Europe/Berlin:20261212T173000
DTSTAMP:20260422T012137
CREATED:20260219T115022Z
LAST-MODIFIED:20260219T115050Z
UID:6949-1797093000-1797096600@pro-musikschule.de
SUMMARY:Sternstunde für Kinder und Erwachsene
DESCRIPTION:Schülerinnen und Schüler aus verschiedenen Instrumentalklassen spielen gemeinsam mit ihren Lehrkräften weihnachtliche Musik. Pastor Weber ergänzt das Programm mit dazu passend ausgewählten Texten.\nEintritt frei.
URL:https://pro-musikschule.de/einzeltermin/sternstunde-fuer-kinder-und-erwachsenen/
LOCATION:Evangelische Kirche Preußisch Oldendorf\, Spiegelstr. 1b
END:VEVENT
END:VCALENDAR